BEGIN:VCALENDAR
VERSION:2.0
PRODID:-//Sedona Mago Center - ECPv6.15.20//NONSGML v1.0//EN
CALSCALE:GREGORIAN
METHOD:PUBLISH
X-WR-CALNAME:Sedona Mago Center
X-ORIGINAL-URL:https://sedonamagoretreat.org
X-WR-CALDESC:Events for Sedona Mago Center
REFRESH-INTERVAL;VALUE=DURATION:PT1H
X-Robots-Tag:noindex
X-PUBLISHED-TTL:PT1H
BEGIN:VTIMEZONE
TZID:America/Phoenix
BEGIN:STANDARD
TZOFFSETFROM:-0700
TZOFFSETTO:-0700
TZNAME:MST
DTSTART:20230101T000000
END:STANDARD
END:VTIMEZONE
BEGIN:VEVENT
DTSTART;VALUE=DATE:20241205
DTEND;VALUE=DATE:20241209
DTSTAMP:20260419T145944
CREATED:20240514T113159Z
LAST-MODIFIED:20250316T064229Z
UID:10000395-1733356800-1733702399@sedonamagoretreat.org
SUMMARY:Tao Healing and Meditation
DESCRIPTION:Tao Meditation has been taught throughout Asia for several thousand years to guide practitioners on their journey toward self-discovery\, self-healing\, and self-fulfillment. Sedona Mago’s Tao Healing and Meditation program is a self-healing-based program.
URL:https://sedonamagoretreat.org/event/tao-healing-and-meditation-17/
LOCATION:AZ
CATEGORIES:On Campus,Personal Development,Public Programs,Tao Healing and Meditation
ORGANIZER;CN="Sedona Mago Center for Well-being and Retreat":MAILTO:welcome@sedonamagoretreat.org
END:VEVENT
BEGIN:VEVENT
DTSTART;VALUE=DATE:20241208
DTEND;VALUE=DATE:20241210
DTSTAMP:20260419T145944
CREATED:20241001T140323Z
LAST-MODIFIED:20250316T064228Z
UID:10000394-1733616000-1733788799@sedonamagoretreat.org
SUMMARY:R&R Retreat
DESCRIPTION:Relax and Recharge at Sedona Mago\n\n\n\n\n\n\nCome visit our sacred land\, beautifully designed to inspire you to connect with yourself and give your body\, mind\, and spirit the rest and rejuvenation they need. Take some downtime surrounded by Nature and explore the red rocks in Sedona\, go for a hike up the mountains\, or simply stay in and around our private or shared casitas to get some rest and alone time from your busy life.
URL:https://sedonamagoretreat.org/event/rr-retreat-4/
LOCATION:AZ
CATEGORIES:On Campus,R&R Retreat
ATTACH;FMTTYPE=image/jpeg:https://sedonamagoretreat.org/wp-content/uploads/2025/03/RR-retreat-mobile.jpg
END:VEVENT
BEGIN:VEVENT
DTSTART;VALUE=DATE:20241212
DTEND;VALUE=DATE:20241216
DTSTAMP:20260419T145944
CREATED:20240617T120831Z
LAST-MODIFIED:20250316T064225Z
UID:10000393-1733961600-1734307199@sedonamagoretreat.org
SUMMARY:Finding True Self
DESCRIPTION:Sedona Mago’s Finding True Self retreat program opens a spiritual journey to uncover who you are behind your title\, degrees\, bank accounts\, heritage\, and accomplishments.
URL:https://sedonamagoretreat.org/event/finding-true-self-40/
LOCATION:AZ
CATEGORIES:Emotional Mastery,Finding True Self,On Campus,Public Programs,Spiritual Alignment
END:VEVENT
BEGIN:VEVENT
DTSTART;VALUE=DATE:20241213
DTEND;VALUE=DATE:20241216
DTSTAMP:20260419T145944
CREATED:20241205T021109Z
LAST-MODIFIED:20250316T064223Z
UID:10000392-1734048000-1734307199@sedonamagoretreat.org
SUMMARY:R&R Retreat
DESCRIPTION:Relax and Recharge at Sedona Mago\n\n\n\n\n\n\nCome visit our sacred land\, beautifully designed to inspire you to connect with yourself and give your body\, mind\, and spirit the rest and rejuvenation they need. Take some downtime surrounded by Nature and explore the red rocks in Sedona\, go for a hike up the mountains\, or simply stay in and around our private or shared casitas to get some rest and alone time from your busy life.
URL:https://sedonamagoretreat.org/event/rr-retreat-3/
LOCATION:AZ
CATEGORIES:On Campus,R&R Retreat
ATTACH;FMTTYPE=image/jpeg:https://sedonamagoretreat.org/wp-content/uploads/2025/03/RR-retreat-mobile.jpg
END:VEVENT
BEGIN:VEVENT
DTSTART;VALUE=DATE:20241231
DTEND;VALUE=DATE:20250103
DTSTAMP:20260419T145944
CREATED:20241122T052410Z
LAST-MODIFIED:20250316T064222Z
UID:10000391-1735603200-1735862399@sedonamagoretreat.org
SUMMARY:End of the Year R&R Retreat
DESCRIPTION:Relax and Recharge at Sedona Mago\n\n\n\n\n\n\nCome visit our sacred land\, beautifully designed to inspire you to connect with yourself and give your body\, mind\, and spirit the rest and rejuvenation they need. Take some downtime surrounded by Nature and explore the red rocks in Sedona\, go for a hike up the mountains\, or simply stay in and around our private or shared casitas to get some rest and alone time from your busy life.
URL:https://sedonamagoretreat.org/event/rr-retreat-2/
LOCATION:AZ
CATEGORIES:On Campus,R&R Retreat
ATTACH;FMTTYPE=image/jpeg:https://sedonamagoretreat.org/wp-content/uploads/2025/03/RR-retreat-mobile.jpg
END:VEVENT
END:VCALENDAR