BEGIN:VCALENDAR
VERSION:2.0
PRODID:-//Sedona Mago Center - ECPv6.15.20//NONSGML v1.0//EN
CALSCALE:GREGORIAN
METHOD:PUBLISH
X-ORIGINAL-URL:https://sedonamagoretreat.org
X-WR-CALDESC:Events for Sedona Mago Center
REFRESH-INTERVAL;VALUE=DURATION:PT1H
X-Robots-Tag:noindex
X-PUBLISHED-TTL:PT1H
BEGIN:VTIMEZONE
TZID:America/Phoenix
BEGIN:STANDARD
TZOFFSETFROM:-0700
TZOFFSETTO:-0700
TZNAME:MST
DTSTART:20240101T000000
END:STANDARD
END:VTIMEZONE
BEGIN:VEVENT
DTSTART;VALUE=DATE:20250328
DTEND;VALUE=DATE:20250402
DTSTAMP:20260419T084230
CREATED:20241001T072047Z
LAST-MODIFIED:20250709T182530Z
UID:10000373-1743120000-1743551999@sedonamagoretreat.org
SUMMARY:Tao Natural Healing
DESCRIPTION:Tao Natural Healing will guide you to have a strong passion and confidence for discovering and developing your Natural Healing Power through the following healing experiences.
URL:https://sedonamagoretreat.org/event/tao-natural-healing-16/
LOCATION:AZ
CATEGORIES:On Campus,Personal Development,Public Programs,Tao Natural Healing
ATTACH;FMTTYPE=image/jpeg:https://sedonamagoretreat.org/wp-content/uploads/2025/02/tao-natural-healing-preview.jpg
END:VEVENT
BEGIN:VEVENT
DTSTART;VALUE=DATE:20250330
DTEND;VALUE=DATE:20250403
DTSTAMP:20260419T084230
CREATED:20240719T093949Z
LAST-MODIFIED:20250316T064122Z
UID:10000372-1743292800-1743638399@sedonamagoretreat.org
SUMMARY:Self-Empowerment QiGong Retreat
DESCRIPTION:Sedona Mago’s Self Empowerment QiGong Retreat is an in-depth workshop that teaches the development and use of one’s Qi (pronounced chee)\, the Asian word for the energetic life force in the body and the universe. You will learn how to connect and control your Qi energy using active movement\, deep breathing exercises\, and mindful meditation.
URL:https://sedonamagoretreat.org/event/self-empowerment-qigong-retreat-21/
LOCATION:AZ
CATEGORIES:On Campus,Personal Development,Public Programs,Self Empowerment Qigong Retreat
END:VEVENT
BEGIN:VEVENT
DTSTART;VALUE=DATE:20250403
DTEND;VALUE=DATE:20250407
DTSTAMP:20260419T084230
CREATED:20240714T114940Z
LAST-MODIFIED:20250316T064118Z
UID:10000371-1743638400-1743983999@sedonamagoretreat.org
SUMMARY:Finding True Self
DESCRIPTION:Sedona Mago’s Finding True Self retreat program opens a spiritual journey to uncover who you are behind your title\, degrees\, bank accounts\, heritage\, and accomplishments.
URL:https://sedonamagoretreat.org/event/finding-true-self-44/
LOCATION:AZ
CATEGORIES:Emotional Mastery,Finding True Self,On Campus,Public Programs,Spiritual Alignment
END:VEVENT
BEGIN:VEVENT
DTSTART;VALUE=DATE:20250403
DTEND;VALUE=DATE:20250408
DTSTAMP:20260419T084230
CREATED:20240927T104103Z
LAST-MODIFIED:20250724T194611Z
UID:10000370-1743638400-1744070399@sedonamagoretreat.org
SUMMARY:Sedona Vortex Healing Retreat
DESCRIPTION:Embark on a transformative journey blending serene meditations and breathtaking scenic tours. Your adventure begins at Sedona Mago’s sacred sites\, including the Healing Gardens\, Mission Place Monument\, and Han Won Shrine. Immerse yourself in guided meditations amidst these tranquil settings.
URL:https://sedonamagoretreat.org/event/sedona-vortext-healing-retreat/
LOCATION:Sedona Mago Center for Well-being and Retreat\, 3500 E. Bill Gray Road\, Sedona\, AZ\, 86336\, United States
CATEGORIES:On Campus,Personal Development,Sedona Vortex Healing Retreat
ATTACH;FMTTYPE=image/jpeg:https://sedonamagoretreat.org/wp-content/uploads/2025/02/sedona-vortex-healing-retreat-preview.jpg
ORGANIZER;CN="Sedona Mago Center for Well-being and Retreat":MAILTO:welcome@sedonamagoretreat.org
END:VEVENT
BEGIN:VEVENT
DTSTART;VALUE=DATE:20250411
DTEND;VALUE=DATE:20250415
DTSTAMP:20260419T084230
CREATED:20240719T032743Z
LAST-MODIFIED:20250316T064106Z
UID:10000369-1744329600-1744675199@sedonamagoretreat.org
SUMMARY:Sedona Meditation Weekend
DESCRIPTION:Join us for an immersive mindfulness meditation experience during our Sedona Meditation Weekend. Come learn the basics and beyond about mind management using the art of mindful meditation.
URL:https://sedonamagoretreat.org/event/sedona-meditation-weekend-40/
LOCATION:AZ
CATEGORIES:On Campus,Personal Development,Public Programs,Sedona Meditation Weekend,Spiritual Alignment
END:VEVENT
BEGIN:VEVENT
DTSTART;VALUE=DATE:20250413
DTEND;VALUE=DATE:20250416
DTSTAMP:20260419T084230
CREATED:20241205T021130Z
LAST-MODIFIED:20250316T064101Z
UID:10000368-1744502400-1744761599@sedonamagoretreat.org
SUMMARY:R&R Retreat
DESCRIPTION:Relax and Recharge at Sedona Mago\n\n\n\n\n\n\nCome visit our sacred land\, beautifully designed to inspire you to connect with yourself and give your body\, mind\, and spirit the rest and rejuvenation they need. Take some downtime surrounded by Nature and explore the red rocks in Sedona\, go for a hike up the mountains\, or simply stay in and around our private or shared casitas to get some rest and alone time from your busy life.
URL:https://sedonamagoretreat.org/event/rr-retreat-5/
LOCATION:Sedona Mago Center for Well-being and Retreat\, 3500 E. Bill Gray Road\, Sedona\, AZ\, 86336\, United States
CATEGORIES:On Campus,R&R Retreat
ATTACH;FMTTYPE=image/jpeg:https://sedonamagoretreat.org/wp-content/uploads/2025/03/RR-retreat-mobile.jpg
ORGANIZER;CN="Sedona Mago Center for Well-being and Retreat":MAILTO:welcome@sedonamagoretreat.org
END:VEVENT
BEGIN:VEVENT
DTSTART;VALUE=DATE:20250413
DTEND;VALUE=DATE:20250417
DTSTAMP:20260419T084230
CREATED:20250109T021115Z
LAST-MODIFIED:20250316T064053Z
UID:10000367-1744502400-1744847999@sedonamagoretreat.org
SUMMARY:Tao Healing and Meditation
DESCRIPTION:Tao Meditation has been taught throughout Asia for several thousand years to guide practitioners on their journey toward self-discovery\, self-healing\, and self-fulfillment. Sedona Mago’s Tao Healing and Meditation program is a self-healing-based program.
URL:https://sedonamagoretreat.org/event/tao-healing-and-meditation/
LOCATION:Sedona Mago Center for Well-being and Retreat\, 3500 E. Bill Gray Road\, Sedona\, AZ\, 86336\, United States
CATEGORIES:On Campus,Personal Development,Public Programs,Tao Healing and Meditation
ORGANIZER;CN="Sedona Mago Center for Well-being and Retreat":MAILTO:welcome@sedonamagoretreat.org
END:VEVENT
BEGIN:VEVENT
DTSTART;VALUE=DATE:20250418
DTEND;VALUE=DATE:20250424
DTSTAMP:20260419T084230
CREATED:20240719T043703Z
LAST-MODIFIED:20250316T063917Z
UID:10000365-1744934400-1745452799@sedonamagoretreat.org
SUMMARY:Revitalizing Detox Retreat
DESCRIPTION:Over six days\, you’ll release built-up toxins from your body\, increase your nutrient intake\, learn which foods your body needs for metabolic renewal\, and understand stress’s impact on your digestion and absorption of foods. You’ll leave with a clearer mind\, renewed cellular memory\, and more focused energy. The result is a healthy body and mind that knows how to keep themselves healthy even after leaving.
URL:https://sedonamagoretreat.org/event/revitalizing-detox-retreat-37/
LOCATION:AZ
CATEGORIES:Body-Mind Detox,On Campus,Public Programs,Revitalizing Detox Retreat
END:VEVENT
BEGIN:VEVENT
DTSTART;VALUE=DATE:20250423
DTEND;VALUE=DATE:20250428
DTSTAMP:20260419T084230
CREATED:20240718T073713Z
LAST-MODIFIED:20250316T063915Z
UID:10000364-1745366400-1745798399@sedonamagoretreat.org
SUMMARY:Sedona Wellness Retreat
DESCRIPTION:The ancient energy practice and principles of the universe told us that human beings\, nature\, and all living things are all One. It told us that the abundance of energy all around us is also within us and that the key to healing ourselves already exists within us. \nIn the natural beauty of Sedona and the energy vortexes existing at Sedona Mago’s land\, we will utilize the abundance of energy to unlock the power centers within you. You will gain the essential tools to awaken the limitless potentials of your power centers and recover the natural health of your body\, mind\, and spirit from the ancient Asian energy principles called “Water Up Fire Down”.
URL:https://sedonamagoretreat.org/event/sedona-wellness-retreat-30/
LOCATION:AZ
CATEGORIES:On Campus,Personal Development,Public Programs,Sedona Wellness Retreat,Spiritual Alignment
END:VEVENT
END:VCALENDAR