BEGIN:VCALENDAR
VERSION:2.0
PRODID:-//Sedona Mago Center - ECPv6.15.20//NONSGML v1.0//EN
CALSCALE:GREGORIAN
METHOD:PUBLISH
X-ORIGINAL-URL:https://sedonamagoretreat.org
X-WR-CALDESC:Events for Sedona Mago Center
REFRESH-INTERVAL;VALUE=DURATION:PT1H
X-Robots-Tag:noindex
X-PUBLISHED-TTL:PT1H
BEGIN:VTIMEZONE
TZID:America/Phoenix
BEGIN:STANDARD
TZOFFSETFROM:-0700
TZOFFSETTO:-0700
TZNAME:MST
DTSTART:20250101T000000
END:STANDARD
END:VTIMEZONE
BEGIN:VEVENT
DTSTART;VALUE=DATE:20260709
DTEND;VALUE=DATE:20260713
DTSTAMP:20260419T062848
CREATED:20250718T004445Z
LAST-MODIFIED:20250718T004445Z
UID:10000437-1783555200-1783900799@sedonamagoretreat.org
SUMMARY:Finding True Self
DESCRIPTION:Learn to trust and love yourself authentically to release self-imposed limitations and energy blocks. Your heart will open\, and you will be free to follow your dreams.
URL:https://sedonamagoretreat.org/event/finding-true-self-8/
LOCATION:Sedona Mago Center for Well-being and Retreat\, 3500 E. Bill Gray Road\, Sedona\, AZ\, 86336\, United States
CATEGORIES:Emotional Mastery,Finding True Self,On Campus,Personal Development,Public Programs
ATTACH;FMTTYPE=image/jpeg:https://sedonamagoretreat.org/wp-content/uploads/2025/02/finding-true-self-retreat-preview.jpg
ORGANIZER;CN="Sedona Mago Center for Well-being and Retreat":MAILTO:welcome@sedonamagoretreat.org
END:VEVENT
BEGIN:VEVENT
DTSTART;VALUE=DATE:20260721
DTEND;VALUE=DATE:20260727
DTSTAMP:20260419T062848
CREATED:20251009T005108Z
LAST-MODIFIED:20251009T005108Z
UID:10000512-1784592000-1785110399@sedonamagoretreat.org
SUMMARY:Revitalizing Detox Retreat
DESCRIPTION:Renew your cellular memory and restore your body through a nutrient-rich diet\, healthy habits\, and mindfulness and meditation practices.
URL:https://sedonamagoretreat.org/event/revitalizing-detox-retreat-7/
LOCATION:Sedona Mago Center for Well-being and Retreat\, 3500 E. Bill Gray Road\, Sedona\, AZ\, 86336\, United States
CATEGORIES:Body-Mind Detox,On Campus,Public Programs,Revitalizing Detox Retreat
ATTACH;FMTTYPE=image/jpeg:https://sedonamagoretreat.org/wp-content/uploads/2024/11/revitalizing-detox-retreat-header.jpg
ORGANIZER;CN="Sedona Mago Center for Well-being and Retreat":MAILTO:welcome@sedonamagoretreat.org
END:VEVENT
BEGIN:VEVENT
DTSTART;VALUE=DATE:20260723
DTEND;VALUE=DATE:20260726
DTSTAMP:20260419T062848
CREATED:20251218T063916Z
LAST-MODIFIED:20251218T063916Z
UID:10000531-1784764800-1785023999@sedonamagoretreat.org
SUMMARY:Sedona Meditation Weekend
DESCRIPTION:Learn to be present and connected in every moment with crystal clarity through meditation while healing and restoring your body and mind.
URL:https://sedonamagoretreat.org/event/sedona-meditation-weekend-5/
LOCATION:Sedona Mago Center for Well-being and Retreat\, 3500 E. Bill Gray Road\, Sedona\, AZ\, 86336\, United States
CATEGORIES:On Campus,Personal Development,Public Programs,Sedona Meditation Weekend,Spiritual Alignment
ATTACH;FMTTYPE=image/jpeg:https://sedonamagoretreat.org/wp-content/uploads/2025/02/sedona-meditation-weekend-preview.jpg
ORGANIZER;CN="Sedona Mago Center for Well-being and Retreat":MAILTO:welcome@sedonamagoretreat.org
END:VEVENT
BEGIN:VEVENT
DTSTART;VALUE=DATE:20260725
DTEND;VALUE=DATE:20260730
DTSTAMP:20260419T062848
CREATED:20250724T184059Z
LAST-MODIFIED:20251009T000616Z
UID:10000451-1784937600-1785369599@sedonamagoretreat.org
SUMMARY:Sedona Wellness Retreat
DESCRIPTION:Embark on a journey to rejuvenate your body\, mind\, and spirit through holistic healing and easy\, effective modalities designed to restore inner balance and harmony.
URL:https://sedonamagoretreat.org/event/sedona-wellness-retreat-7/
LOCATION:Sedona Mago Center for Well-being and Retreat\, 3500 E. Bill Gray Road\, Sedona\, AZ\, 86336\, United States
CATEGORIES:On Campus,Personal Development,Public Programs,Sedona Wellness Retreat,Spiritual Alignment
ATTACH;FMTTYPE=image/jpeg:https://sedonamagoretreat.org/wp-content/uploads/2025/02/sedona-wellness-retreat-preview.jpg
ORGANIZER;CN="Sedona Mago Center for Well-being and Retreat":MAILTO:welcome@sedonamagoretreat.org
END:VEVENT
END:VCALENDAR